BEGIN:VCALENDAR
VERSION:2.0
PRODID:spatie/icalendar-generator
DESCRIPTION:Events from STADIN SISSIT
X-WR-CALDESC:Events from STADIN SISSIT
REFRESH-INTERVAL;VALUE=DURATION:PT1440M
X-PUBLISHED-TTL:PT1440M
BEGIN:VTIMEZONE
TZID:Europe/Helsinki
BEGIN:STANDARD
DTSTART:20251026T040000Z
TZOFFSETFROM:+0300
TZOFFSETTO:+0200
END:STANDARD
BEGIN:DAYLIGHT
DTSTART:20260329T030000Z
TZOFFSETFROM:+0200
TZOFFSETTO:+0300
END:DAYLIGHT
END:VTIMEZONE
BEGIN:VTIMEZONE
TZID:UTC
BEGIN:STANDARD
DTSTART:20250728T155644Z
TZOFFSETFROM:+0000
TZOFFSETTO:+0000
END:STANDARD
END:VTIMEZONE
BEGIN:VEVENT
UID:408-15
DTSTAMP:20260424T155644Z
SUMMARY:Ampumavuoro Ikisissit
LOCATION:
ORGANIZER;CN=Henri Nousiainen:MAILTO:henri.nousiainen@gmail.com
RRULE:FREQ=WEEKLY;INTERVAL=2;UNTIL=20270930T000000Z
DTSTART;TZID=Europe/Helsinki:20260415T140000
DTEND;TZID=Europe/Helsinki:20260415T160000
X-ALT-DESC;FMTTYPE=TEXT/HTML:Ikisissien ampumavuorosta lisätiedot: ikisiss
 it(at)stadinsissit.fi
CATEGORIES:General
URL;VALUE=URI:https://stadinsissit.fi/mc-events/ampumavuoro-ikisissit/?mc_i
 d=408
METHOD:PUBLISH
END:VEVENT
END:VCALENDAR